BEGIN:VCALENDAR
VERSION:2.0
PRODID:icalendar-ruby
CALSCALE:GREGORIAN
METHOD:PUBLISH
BEGIN:VEVENT
DTSTAMP:20260422T112831Z
UID:5-452591@stpaul131.tithelysetup5.com
DTSTART:20261018T150000Z
DTEND:20261018T160000Z
CLASS:PUBLIC
CREATED:20260421T194434
DESCRIPTION:Join us for worship as we offer songs of thanksgiving to God\, 
 hear God's holy Word\, and share in God's holy communion. All are welcome!
LAST-MODIFIED:20260421T194434
LOCATION:
SUMMARY:Worship with Holy Communion
URL;VALUE=URI:https://stpauls.me/events/worship-with-holy-communion/2026-10
 -18
ATTACH;FILENAME=IMG_2876-%282%29.JPG;FMTTYPE=image/jpeg:https://dq5pwpg1q8r
 u0.cloudfront.net/2023/04/27/08/18/53/d6f467ca-a057-4f50-be9f-3d0a3bb9a313
 /IMG_2876-%25282%2529.JPG
END:VEVENT
END:VCALENDAR
