BEGIN:VCALENDAR
VERSION:2.0
PRODID:icalendar-ruby
CALSCALE:GREGORIAN
METHOD:PUBLISH
BEGIN:VEVENT
DTSTAMP:20260422T181319Z
UID:51-451328@stpaul131.tithelysetup5.com
DTSTART:20260531T163000Z
DTEND:20260531T180000Z
CLASS:PUBLIC
CREATED:20260421T112914
DESCRIPTION:Join us for our annual World Hunger Fish Fry &amp\; Turkey Dinn
 er. Serving begins at 11:30 am and runs until 1:00 pm (or until the food r
 uns out!) Menu includes fried fish\, roasted turkey\, green beans\, potato
  salad\, homemade desserts\, drinks\, and more. Stay here and eat or take 
 a box to go. Free-will donations will be collected with all proceeds going
  to support world hunger programs through the ELCA.
LAST-MODIFIED:20260421T112914
LOCATION:St. Paul's Lutheran Church
SUMMARY:World Hunger Fish Fry
URL;VALUE=URI:https://stpauls.me/events/world-hunger-fish-fry--51/2026-05-3
 1
ATTACH;FILENAME=Fish-Fry-FB-Event-Photo.png;FMTTYPE=image/png:https://dq5pw
 pg1q8ru0.cloudfront.net/2026/04/21/16/29/14/46d71171-7757-410b-b898-b44abd
 cd1793/Fish-Fry-FB-Event-Photo.png
END:VEVENT
END:VCALENDAR
