BEGIN:VCALENDAR
VERSION:2.0
PRODID:icalendar-ruby
CALSCALE:GREGORIAN
METHOD:PUBLISH
BEGIN:VEVENT
DTSTAMP:20260423T162948Z
UID:54-451331@stpaul131.tithelysetup5.com
DTSTART;VALUE=DATE:20260720
DTEND;VALUE=DATE:20260724
CLASS:PUBLIC
CREATED:20260421T114043
DESCRIPTION:Join us for Vacation Bible School! Youth from Pre-K (potty-trai
 ned\, please!) through 6th grade are invited to a fun week of exploring Go
 d's awesome creation to discover just how big and powerful God really is! 
 We'll gather each evening from 6:00-8:30 pm here at St. Paul's for fun act
 ivities\, games\, crafts\, snacks\, stories\, songs\, and more! Mark your 
 calendars!
LAST-MODIFIED:20260421T114043
LOCATION:St. Paul's Lutheran Church
SUMMARY:Vacation Bible School
URL;VALUE=URI:https://stpauls.me/events/vacation-bible-school--54/2026-07-2
 0
ATTACH;FILENAME=Magnified-Logo.jpg;FMTTYPE=image/jpeg:https://dq5pwpg1q8ru0
 .cloudfront.net/2026/04/21/16/40/43/5eeaca00-6ab8-4cda-be14-f20aaac5a320/M
 agnified-Logo.jpg
END:VEVENT
END:VCALENDAR
