BEGIN:VCALENDAR
VERSION:2.0
PRODID:icalendar-ruby
CALSCALE:GREGORIAN
METHOD:PUBLISH
BEGIN:VEVENT
DTSTAMP:20260422T182511Z
UID:53-451330@stpaul131.tithelysetup5.com
DTSTART;VALUE=DATE:20260712
DTEND;VALUE=DATE:20260716
CLASS:PUBLIC
CREATED:20260421T113623
DESCRIPTION:The annual Mid-Missouri Bible Camp will be held Sunday\, July 1
 2\, through Thursday\, July 16\, at Camp Rising Sun at Lake of the Ozarks 
 State Park. This camp is for youth who have completed 4th grade through 9t
 h grade by this summer. Spend the week at a beautiful camp\, surrounded by
  great friends\, diving into God's word and learning how God is active in 
 our life. This camp is open to everyone - members\, friends\, guests\, eve
 ryone! For details about registering\, please contact the church office.
LAST-MODIFIED:20260421T113623
LOCATION:Lake of the Ozarks State Park
SUMMARY:Mid-MO Bible Camp
URL;VALUE=URI:https://stpauls.me/events/mid-mo-bible-camp--53/2026-07-12
ATTACH;FILENAME=20220719_200854.jpg;FMTTYPE=image/jpeg:https://dq5pwpg1q8ru
 0.cloudfront.net/2026/04/21/16/36/23/9561120e-0195-4bfc-b332-21338c527903/
 20220719_200854.jpg
END:VEVENT
END:VCALENDAR
