BEGIN:VCALENDAR
VERSION:2.0
PRODID:icalendar-ruby
CALSCALE:GREGORIAN
METHOD:PUBLISH
BEGIN:VEVENT
DTSTAMP:20260422T115815Z
UID:6-453122@stpaul131.tithelysetup5.com
DTSTART:20260926T223000Z
DTEND:20260926T233000Z
CLASS:PUBLIC
CREATED:20260422T064758
DESCRIPTION:Join us for a casual worship service. Hear God's Word\, share i
 n God's holy supper. A laid back group with no standing\, so come as you a
 re!
LAST-MODIFIED:20260422T064758
LOCATION:
SUMMARY:Casual Worship
URL;VALUE=URI:https://stpauls.me/events/casual-worship/2026-09-26
ATTACH;FILENAME=IMG_20150404_113328711-%282%29.jpg;FMTTYPE=image/jpeg:https
 ://dq5pwpg1q8ru0.cloudfront.net/2023/04/27/08/37/49/30da1b64-e474-4899-be5
 f-3089141889e8/IMG_20150404_113328711-%25282%2529.jpg
END:VEVENT
END:VCALENDAR
