BEGIN:VCALENDAR
VERSION:2.0
PRODID:icalendar-ruby
CALSCALE:GREGORIAN
METHOD:PUBLISH
BEGIN:VEVENT
DTSTAMP:20260423T160400Z
UID:55-451691@stpaul131.tithelysetup5.com
DTSTART:20260801T140000Z
DTEND:20260801T180000Z
CLASS:PUBLIC
CREATED:20260421T115702
DESCRIPTION:Hosted by the Cole Camp Area Church Alliance\, the annual Back 
 to School Clothing Drive &amp\; Sale provides gently used clothing and mor
 e for families in the area before the start of the school year. More info 
 about the event can be found on the Facebook page: Cole Camp Back to Schoo
 l Clothing Drive and Sale\nDonations for the sale can be dropped off at th
 e church starting in June. More details to come...
LAST-MODIFIED:20260421T115702
LOCATION:St. Paul's Lutheran Church
SUMMARY:Back to School Clothing Sale
URL;VALUE=URI:https://stpauls.me/events/back-to-school-clothing-sale--55/20
 26-08-01
ATTACH;FILENAME=Clothes-rack-clip-art.png;FMTTYPE=image/png:https://dq5pwpg
 1q8ru0.cloudfront.net/2026/04/21/16/57/01/9f1b79c6-83cd-4636-b243-e16ae472
 91d5/Clothes-rack-clip-art.png
END:VEVENT
END:VCALENDAR
